BEGIN:VCALENDAR
VERSION:2.0
PRODID:-//Contratero//ES
CALSCALE:GREGORIAN
METHOD:PUBLISH
BEGIN:VEVENT
UID:PAS 49/2022_8741@contratero.es
DTSTAMP:20260423T035143Z
DTSTART:20221209T235959
DTEND:20221210T005959
SUMMARY:Cierre: Gestión de Redes Sociales de la Facultad de Derech
DESCRIPTION:Gestión de Redes Sociales de la Facultad de Derecho\\n\\nOrganismo: Rectorado de la Universidad Complutense de Madrid\\n\\nVer en Contratero: https://contratero.es/contracts/PAS 49/2022_8741
URL:https://contratero.es/contracts/PAS 49/2022_8741
STATUS:CONFIRMED
BEGIN:VALARM
TRIGGER:-P1D
ACTION:DISPLAY
DESCRIPTION:Recordatorio: Gestión de Redes Sociales de l
END:VALARM
END:VEVENT
END:VCALENDAR